BEGIN:VCALENDAR
VERSION:2.0
PRODID:-//Pinnacle Consultants - ECPv6.15.20//NONSGML v1.0//EN
CALSCALE:GREGORIAN
METHOD:PUBLISH
X-WR-CALNAME:Pinnacle Consultants
X-ORIGINAL-URL:https://www.pinnaclecorp.net
X-WR-CALDESC:Events for Pinnacle Consultants
REFRESH-INTERVAL;VALUE=DURATION:PT1H
X-Robots-Tag:noindex
X-PUBLISHED-TTL:PT1H
BEGIN:VTIMEZONE
TZID:America/New_York
BEGIN:DAYLIGHT
TZOFFSETFROM:-0500
TZOFFSETTO:-0400
TZNAME:EDT
DTSTART:20250309T070000
END:DAYLIGHT
BEGIN:STANDARD
TZOFFSETFROM:-0400
TZOFFSETTO:-0500
TZNAME:EST
DTSTART:20251102T060000
END:STANDARD
BEGIN:DAYLIGHT
TZOFFSETFROM:-0500
TZOFFSETTO:-0400
TZNAME:EDT
DTSTART:20260308T070000
END:DAYLIGHT
BEGIN:STANDARD
TZOFFSETFROM:-0400
TZOFFSETTO:-0500
TZNAME:EST
DTSTART:20261101T060000
END:STANDARD
BEGIN:DAYLIGHT
TZOFFSETFROM:-0500
TZOFFSETTO:-0400
TZNAME:EDT
DTSTART:20270314T070000
END:DAYLIGHT
BEGIN:STANDARD
TZOFFSETFROM:-0400
TZOFFSETTO:-0500
TZNAME:EST
DTSTART:20271107T060000
END:STANDARD
END:VTIMEZONE
BEGIN:VEVENT
DTSTART;TZID=America/New_York:20260316T080000
DTEND;TZID=America/New_York:20260320T160000
DTSTAMP:20260419T154908
CREATED:20251104T202108Z
LAST-MODIFIED:20251104T202108Z
UID:7725-1773648000-1774022400@www.pinnaclecorp.net
SUMMARY:Initial Contractor/Supervisor Training
DESCRIPTION:The Asbestos Contractor/Supervisor Initial training is for any individual who performs supervision of persons permitted to enter the restricted and regulated asbestos abatement work area. The supervisor is also responsible for performing the duties of the OSHA competent person for the asbestos project\, consistent with current EPA and OSHA regulations.
URL:https://www.pinnaclecorp.net/training/initial-contractor-supervisor-training-15/
LOCATION:Pinnacle Building\, 10 Independent Avenue\, Nitro\, WV\, 25143\, United States
CATEGORIES:Initial Contractor/Supervisor Training
END:VEVENT
END:VCALENDAR