BEGIN:VCALENDAR
VERSION:2.0
PRODID:-//Pinnacle Consultants - ECPv6.15.20//NONSGML v1.0//EN
CALSCALE:GREGORIAN
METHOD:PUBLISH
X-WR-CALNAME:Pinnacle Consultants
X-ORIGINAL-URL:https://www.pinnaclecorp.net
X-WR-CALDESC:Events for Pinnacle Consultants
REFRESH-INTERVAL;VALUE=DURATION:PT1H
X-Robots-Tag:noindex
X-PUBLISHED-TTL:PT1H
BEGIN:VTIMEZONE
TZID:America/New_York
BEGIN:DAYLIGHT
TZOFFSETFROM:-0500
TZOFFSETTO:-0400
TZNAME:EDT
DTSTART:20250309T070000
END:DAYLIGHT
BEGIN:STANDARD
TZOFFSETFROM:-0400
TZOFFSETTO:-0500
TZNAME:EST
DTSTART:20251102T060000
END:STANDARD
BEGIN:DAYLIGHT
TZOFFSETFROM:-0500
TZOFFSETTO:-0400
TZNAME:EDT
DTSTART:20260308T070000
END:DAYLIGHT
BEGIN:STANDARD
TZOFFSETFROM:-0400
TZOFFSETTO:-0500
TZNAME:EST
DTSTART:20261101T060000
END:STANDARD
BEGIN:DAYLIGHT
TZOFFSETFROM:-0500
TZOFFSETTO:-0400
TZNAME:EDT
DTSTART:20270314T070000
END:DAYLIGHT
BEGIN:STANDARD
TZOFFSETFROM:-0400
TZOFFSETTO:-0500
TZNAME:EST
DTSTART:20271107T060000
END:STANDARD
END:VTIMEZONE
BEGIN:VEVENT
DTSTART;TZID=America/New_York:20260423T080000
DTEND;TZID=America/New_York:20260424T160000
DTSTAMP:20260419T171830
CREATED:20251104T202123Z
LAST-MODIFIED:20260413T121541Z
UID:7731-1776931200-1777046400@www.pinnaclecorp.net
SUMMARY:Initial Management Planner Training
DESCRIPTION:This Asbestos Management Planner Initial training course accredits individuals to be the AHERA Dedicated Person to assess an asbestos hazard and recommend appropriate response actions. This training is for those responsible for facility mitigation activities\, including management of data associated with asbestos work\, response action planning\, scheduling and administration. The Management Planner also coordinates any activities of an asbestos operations and maintenance program. Individuals must have completed the Asbestos Building Inspector training before taking the Management Planner course.
URL:https://www.pinnaclecorp.net/training/initial-management-planner-training-16/
LOCATION:Pinnacle Building\, 10 Independent Avenue\, Nitro\, WV\, 25143\, United States
CATEGORIES:Initial Management Planner Training
END:VEVENT
END:VCALENDAR