BEGIN:VCALENDAR
VERSION:2.0
PRODID:-//Pinnacle Consultants - ECPv6.15.20//NONSGML v1.0//EN
CALSCALE:GREGORIAN
METHOD:PUBLISH
X-WR-CALNAME:Pinnacle Consultants
X-ORIGINAL-URL:https://www.pinnaclecorp.net
X-WR-CALDESC:Events for Pinnacle Consultants
REFRESH-INTERVAL;VALUE=DURATION:PT1H
X-Robots-Tag:noindex
X-PUBLISHED-TTL:PT1H
BEGIN:VTIMEZONE
TZID:America/New_York
BEGIN:DAYLIGHT
TZOFFSETFROM:-0500
TZOFFSETTO:-0400
TZNAME:EDT
DTSTART:20250309T070000
END:DAYLIGHT
BEGIN:STANDARD
TZOFFSETFROM:-0400
TZOFFSETTO:-0500
TZNAME:EST
DTSTART:20251102T060000
END:STANDARD
BEGIN:DAYLIGHT
TZOFFSETFROM:-0500
TZOFFSETTO:-0400
TZNAME:EDT
DTSTART:20260308T070000
END:DAYLIGHT
BEGIN:STANDARD
TZOFFSETFROM:-0400
TZOFFSETTO:-0500
TZNAME:EST
DTSTART:20261101T060000
END:STANDARD
BEGIN:DAYLIGHT
TZOFFSETFROM:-0500
TZOFFSETTO:-0400
TZNAME:EDT
DTSTART:20270314T070000
END:DAYLIGHT
BEGIN:STANDARD
TZOFFSETFROM:-0400
TZOFFSETTO:-0500
TZNAME:EST
DTSTART:20271107T060000
END:STANDARD
END:VTIMEZONE
BEGIN:VEVENT
DTSTART;TZID=America/New_York:20260526T080000
DTEND;TZID=America/New_York:20260528T160000
DTSTAMP:20260419T171929
CREATED:20251104T202138Z
LAST-MODIFIED:20251104T202138Z
UID:7736-1779782400-1779984000@www.pinnaclecorp.net
SUMMARY:Initial Project Designer Training
DESCRIPTION:The Asbestos Project Designer Initial training accredits individuals to plan the scope\, timing\, phasing\, and remediation methods for an asbestos project. Accreditation as a Project Designer allows one to apply knowledge of building construction in the design and development of abatement projects\, abatement specifications\, bidding documents\, architectural drawings\, and schematic representations of material locations.
URL:https://www.pinnaclecorp.net/training/initial-project-designer-training-7/
LOCATION:Pinnacle Building\, 10 Independent Avenue\, Nitro\, WV\, 25143\, United States
CATEGORIES:Initial Project Designer Training
END:VEVENT
END:VCALENDAR