BEGIN:VCALENDAR
VERSION:2.0
PRODID:-//Pinnacle Consultants - ECPv6.15.20//NONSGML v1.0//EN
CALSCALE:GREGORIAN
METHOD:PUBLISH
X-WR-CALNAME:Pinnacle Consultants
X-ORIGINAL-URL:https://www.pinnaclecorp.net
X-WR-CALDESC:Events for Pinnacle Consultants
REFRESH-INTERVAL;VALUE=DURATION:PT1H
X-Robots-Tag:noindex
X-PUBLISHED-TTL:PT1H
BEGIN:VTIMEZONE
TZID:America/New_York
BEGIN:DAYLIGHT
TZOFFSETFROM:-0500
TZOFFSETTO:-0400
TZNAME:EDT
DTSTART:20250309T070000
END:DAYLIGHT
BEGIN:STANDARD
TZOFFSETFROM:-0400
TZOFFSETTO:-0500
TZNAME:EST
DTSTART:20251102T060000
END:STANDARD
BEGIN:DAYLIGHT
TZOFFSETFROM:-0500
TZOFFSETTO:-0400
TZNAME:EDT
DTSTART:20260308T070000
END:DAYLIGHT
BEGIN:STANDARD
TZOFFSETFROM:-0400
TZOFFSETTO:-0500
TZNAME:EST
DTSTART:20261101T060000
END:STANDARD
BEGIN:DAYLIGHT
TZOFFSETFROM:-0500
TZOFFSETTO:-0400
TZNAME:EDT
DTSTART:20270314T070000
END:DAYLIGHT
BEGIN:STANDARD
TZOFFSETFROM:-0400
TZOFFSETTO:-0500
TZNAME:EST
DTSTART:20271107T060000
END:STANDARD
END:VTIMEZONE
BEGIN:VEVENT
DTSTART;TZID=America/New_York:20260615T080000
DTEND;TZID=America/New_York:20260617T160000
DTSTAMP:20260419T223328
CREATED:20251104T202155Z
LAST-MODIFIED:20251104T202155Z
UID:7741-1781510400-1781712000@www.pinnaclecorp.net
SUMMARY:Initial Building Inspector Training
DESCRIPTION:This Asbestos Building Inspector Initial training accredits individuals to assess the condition of asbestos material and report the results. Any person who performs the tasks involved in the asbestos survey\, identification\, and assessment of the condition of asbestos and asbestos material\, or who is involved in the collection of bulk samples of asbestos material for laboratory analysis\, needs this training.
URL:https://www.pinnaclecorp.net/training/initial-building-inspector-training-17/
LOCATION:Pinnacle Building\, 10 Independent Avenue\, Nitro\, WV\, 25143\, United States
CATEGORIES:Initial Building Inspector Training
END:VEVENT
END:VCALENDAR