BEGIN:VCALENDAR
VERSION:2.0
PRODID:-//Pinnacle Consultants - ECPv6.15.20//NONSGML v1.0//EN
CALSCALE:GREGORIAN
METHOD:PUBLISH
X-ORIGINAL-URL:https://www.pinnaclecorp.net
X-WR-CALDESC:Events for Pinnacle Consultants
REFRESH-INTERVAL;VALUE=DURATION:PT1H
X-Robots-Tag:noindex
X-PUBLISHED-TTL:PT1H
BEGIN:VTIMEZONE
TZID:America/New_York
BEGIN:DAYLIGHT
TZOFFSETFROM:-0500
TZOFFSETTO:-0400
TZNAME:EDT
DTSTART:20250309T070000
END:DAYLIGHT
BEGIN:STANDARD
TZOFFSETFROM:-0400
TZOFFSETTO:-0500
TZNAME:EST
DTSTART:20251102T060000
END:STANDARD
BEGIN:DAYLIGHT
TZOFFSETFROM:-0500
TZOFFSETTO:-0400
TZNAME:EDT
DTSTART:20260308T070000
END:DAYLIGHT
BEGIN:STANDARD
TZOFFSETFROM:-0400
TZOFFSETTO:-0500
TZNAME:EST
DTSTART:20261101T060000
END:STANDARD
BEGIN:DAYLIGHT
TZOFFSETFROM:-0500
TZOFFSETTO:-0400
TZNAME:EDT
DTSTART:20270314T070000
END:DAYLIGHT
BEGIN:STANDARD
TZOFFSETFROM:-0400
TZOFFSETTO:-0500
TZNAME:EST
DTSTART:20271107T060000
END:STANDARD
END:VTIMEZONE
BEGIN:VEVENT
DTSTART;TZID=America/New_York:20260710T080000
DTEND;TZID=America/New_York:20260710T120000
DTSTAMP:20260420T004748
CREATED:20251104T202156Z
LAST-MODIFIED:20251104T202156Z
UID:7744-1783670400-1783684800@www.pinnaclecorp.net
SUMMARY:Refresher Building Inspector Training (BIR)
DESCRIPTION:The Asbestos Inspector refresher training re-certifies individuals to survey\, identify and assess the condition of asbestos and asbestos-containing material and record and report the results. EPA certified asbestos classes have a one-year certification with a one-year grace period. If you fail to take the refresher class by the expiration date you cannot perform the AHERA job duties until you take a refresher class. If you go longer than one year past your expiration date without taking a refresher class\, you are required to retake the initial certification class. If you did not take your last course from Pinnacle\, please provide in advance a copy.
URL:https://www.pinnaclecorp.net/training/refresher-building-inspector-training-bir-7/
LOCATION:Pinnacle Building/Zoom\, 10 Independent Avenue\, Nitro\, WV\, 25213\, United States
CATEGORIES:Refresher Building Inspector Training
END:VEVENT
BEGIN:VEVENT
DTSTART;TZID=America/New_York:20260710T120000
DTEND;TZID=America/New_York:20260710T160000
DTSTAMP:20260420T004748
CREATED:20251104T202208Z
LAST-MODIFIED:20251104T202208Z
UID:7745-1783684800-1783699200@www.pinnaclecorp.net
SUMMARY:Refresher Management Planner Training (MPR)
DESCRIPTION:This Management Planner refresher course provides a review of subjects covered in the Management Planner initial course. The Management Planner is the person who develops the written program for managing asbestos containing materials identified during the asbestos building inspection. EPA certified asbestos classes have a one-year certification with a one-year grace period. If you fail to take the refresher class by the expiration date you cannot perform the AHERA job duties until you take a refresher class. If you go longer than one year past your expiration date without taking a refresher class\, you are required to retake the initial certification class. If you did not take your last course from Pinnacle\, please provide in advance a copy.
URL:https://www.pinnaclecorp.net/training/refresher-management-planner-training-mpr-7/
LOCATION:Pinnacle Building/Zoom\, 10 Independent Avenue\, Nitro\, WV\, 25213\, United States
CATEGORIES:Refresher Management Planner Training
END:VEVENT
END:VCALENDAR