BEGIN:VCALENDAR
VERSION:2.0
PRODID:-//Pinnacle Consultants - ECPv6.15.20//NONSGML v1.0//EN
CALSCALE:GREGORIAN
METHOD:PUBLISH
X-WR-CALNAME:Pinnacle Consultants
X-ORIGINAL-URL:https://www.pinnaclecorp.net
X-WR-CALDESC:Events for Pinnacle Consultants
REFRESH-INTERVAL;VALUE=DURATION:PT1H
X-Robots-Tag:noindex
X-PUBLISHED-TTL:PT1H
BEGIN:VTIMEZONE
TZID:America/New_York
BEGIN:DAYLIGHT
TZOFFSETFROM:-0500
TZOFFSETTO:-0400
TZNAME:EDT
DTSTART:20250309T070000
END:DAYLIGHT
BEGIN:STANDARD
TZOFFSETFROM:-0400
TZOFFSETTO:-0500
TZNAME:EST
DTSTART:20251102T060000
END:STANDARD
BEGIN:DAYLIGHT
TZOFFSETFROM:-0500
TZOFFSETTO:-0400
TZNAME:EDT
DTSTART:20260308T070000
END:DAYLIGHT
BEGIN:STANDARD
TZOFFSETFROM:-0400
TZOFFSETTO:-0500
TZNAME:EST
DTSTART:20261101T060000
END:STANDARD
BEGIN:DAYLIGHT
TZOFFSETFROM:-0500
TZOFFSETTO:-0400
TZNAME:EDT
DTSTART:20270314T070000
END:DAYLIGHT
BEGIN:STANDARD
TZOFFSETFROM:-0400
TZOFFSETTO:-0500
TZNAME:EST
DTSTART:20271107T060000
END:STANDARD
END:VTIMEZONE
BEGIN:VEVENT
DTSTART;TZID=America/New_York:20260826T080000
DTEND;TZID=America/New_York:20260827T160000
DTSTAMP:20260419T225617
CREATED:20251104T202238Z
LAST-MODIFIED:20251104T202238Z
UID:7755-1787731200-1787846400@www.pinnaclecorp.net
SUMMARY:Initial Air Clearance Monitor Training
DESCRIPTION:The Initial Asbestos Clearance Air Monitor Course is for those individuals that will be collecting final air clearance samples following an abatement project that takes place in West Virginia. A hands-on calibration and aggressive sampling exercise is included. Clearance air monitoring must be performed after every asbestos-related work project.
URL:https://www.pinnaclecorp.net/training/initial-air-clearance-monitor-training-9/
LOCATION:Pinnacle Building\, 10 Independent Avenue\, Nitro\, WV\, 25143\, United States
CATEGORIES:Initial Air Clearance Monitor Training
END:VEVENT
END:VCALENDAR