BEGIN:VCALENDAR
VERSION:2.0
PRODID:-//Pinnacle Consultants - ECPv6.15.20//NONSGML v1.0//EN
CALSCALE:GREGORIAN
METHOD:PUBLISH
X-WR-CALNAME:Pinnacle Consultants
X-ORIGINAL-URL:https://www.pinnaclecorp.net
X-WR-CALDESC:Events for Pinnacle Consultants
REFRESH-INTERVAL;VALUE=DURATION:PT1H
X-Robots-Tag:noindex
X-PUBLISHED-TTL:PT1H
BEGIN:VTIMEZONE
TZID:America/New_York
BEGIN:DAYLIGHT
TZOFFSETFROM:-0500
TZOFFSETTO:-0400
TZNAME:EDT
DTSTART:20250309T070000
END:DAYLIGHT
BEGIN:STANDARD
TZOFFSETFROM:-0400
TZOFFSETTO:-0500
TZNAME:EST
DTSTART:20251102T060000
END:STANDARD
BEGIN:DAYLIGHT
TZOFFSETFROM:-0500
TZOFFSETTO:-0400
TZNAME:EDT
DTSTART:20260308T070000
END:DAYLIGHT
BEGIN:STANDARD
TZOFFSETFROM:-0400
TZOFFSETTO:-0500
TZNAME:EST
DTSTART:20261101T060000
END:STANDARD
BEGIN:DAYLIGHT
TZOFFSETFROM:-0500
TZOFFSETTO:-0400
TZNAME:EDT
DTSTART:20270314T070000
END:DAYLIGHT
BEGIN:STANDARD
TZOFFSETFROM:-0400
TZOFFSETTO:-0500
TZNAME:EST
DTSTART:20271107T060000
END:STANDARD
END:VTIMEZONE
BEGIN:VEVENT
DTSTART;TZID=America/New_York:20260501T080000
DTEND;TZID=America/New_York:20260501T120000
DTSTAMP:20260420T214728
CREATED:20251104T202124Z
LAST-MODIFIED:20251105T125501Z
UID:7732-1777622400-1777636800@www.pinnaclecorp.net
SUMMARY:Refresher Building Inspector Training (BIR)
DESCRIPTION:The Asbestos Inspector refresher training re-certifies individuals to survey\, identify and assess the condition of asbestos and asbestos-containing material and record and report the results. EPA certified asbestos classes have a one-year certification with a one-year grace period. If you fail to take the refresher class by the expiration date you cannot perform the AHERA job duties until you take a refresher class. If you go longer than one year past your expiration date without taking a refresher class\, you are required to retake the initial certification class. If you did not take your last course from Pinnacle\, please provide in advance a copy.
URL:https://www.pinnaclecorp.net/training/refresher-building-inspector-training-bir-5/
LOCATION:Pinnacle Building/Zoom\, 10 Independent Avenue\, Nitro\, WV\, 25213\, United States
CATEGORIES:Refresher Building Inspector Training
END:VEVENT
BEGIN:VEVENT
DTSTART;TZID=America/New_York:20260612T080000
DTEND;TZID=America/New_York:20260612T120000
DTSTAMP:20260420T214728
CREATED:20251104T202139Z
LAST-MODIFIED:20251104T202139Z
UID:7739-1781251200-1781265600@www.pinnaclecorp.net
SUMMARY:Refresher Building Inspector Training (BIR)
DESCRIPTION:The Asbestos Inspector refresher training re-certifies individuals to survey\, identify and assess the condition of asbestos and asbestos-containing material and record and report the results. EPA certified asbestos classes have a one-year certification with a one-year grace period. If you fail to take the refresher class by the expiration date you cannot perform the AHERA job duties until you take a refresher class. If you go longer than one year past your expiration date without taking a refresher class\, you are required to retake the initial certification class. If you did not take your last course from Pinnacle\, please provide in advance a copy.
URL:https://www.pinnaclecorp.net/training/refresher-building-inspector-training-bir-6/
LOCATION:Pinnacle Building/Zoom\, 10 Independent Avenue\, Nitro\, WV\, 25213\, United States
CATEGORIES:Refresher Building Inspector Training
END:VEVENT
BEGIN:VEVENT
DTSTART;TZID=America/New_York:20260710T080000
DTEND;TZID=America/New_York:20260710T120000
DTSTAMP:20260420T214728
CREATED:20251104T202156Z
LAST-MODIFIED:20251104T202156Z
UID:7744-1783670400-1783684800@www.pinnaclecorp.net
SUMMARY:Refresher Building Inspector Training (BIR)
DESCRIPTION:The Asbestos Inspector refresher training re-certifies individuals to survey\, identify and assess the condition of asbestos and asbestos-containing material and record and report the results. EPA certified asbestos classes have a one-year certification with a one-year grace period. If you fail to take the refresher class by the expiration date you cannot perform the AHERA job duties until you take a refresher class. If you go longer than one year past your expiration date without taking a refresher class\, you are required to retake the initial certification class. If you did not take your last course from Pinnacle\, please provide in advance a copy.
URL:https://www.pinnaclecorp.net/training/refresher-building-inspector-training-bir-7/
LOCATION:Pinnacle Building/Zoom\, 10 Independent Avenue\, Nitro\, WV\, 25213\, United States
CATEGORIES:Refresher Building Inspector Training
END:VEVENT
BEGIN:VEVENT
DTSTART;TZID=America/New_York:20260807T080000
DTEND;TZID=America/New_York:20260807T120000
DTSTAMP:20260420T214728
CREATED:20251104T202223Z
LAST-MODIFIED:20251104T202223Z
UID:7750-1786089600-1786104000@www.pinnaclecorp.net
SUMMARY:Refresher Building Inspector Training (BIR)
DESCRIPTION:The Asbestos Inspector refresher training re-certifies individuals to survey\, identify and assess the condition of asbestos and asbestos-containing material and record and report the results. EPA certified asbestos classes have a one-year certification with a one-year grace period. If you fail to take the refresher class by the expiration date you cannot perform the AHERA job duties until you take a refresher class. If you go longer than one year past your expiration date without taking a refresher class\, you are required to retake the initial certification class. If you did not take your last course from Pinnacle\, please provide in advance a copy.
URL:https://www.pinnaclecorp.net/training/refresher-building-inspector-training-bir-8/
LOCATION:Pinnacle Building/Zoom\, 10 Independent Avenue\, Nitro\, WV\, 25213\, United States
CATEGORIES:Refresher Building Inspector Training
END:VEVENT
BEGIN:VEVENT
DTSTART;TZID=America/New_York:20260911T080000
DTEND;TZID=America/New_York:20260911T120000
DTSTAMP:20260420T214728
CREATED:20251104T202238Z
LAST-MODIFIED:20251104T202238Z
UID:7757-1789113600-1789128000@www.pinnaclecorp.net
SUMMARY:Refresher Building Inspector Training (BIR)
DESCRIPTION:The Asbestos Inspector refresher training re-certifies individuals to survey\, identify and assess the condition of asbestos and asbestos-containing material and record and report the results. EPA certified asbestos classes have a one-year certification with a one-year grace period. If you fail to take the refresher class by the expiration date you cannot perform the AHERA job duties until you take a refresher class. If you go longer than one year past your expiration date without taking a refresher class\, you are required to retake the initial certification class. If you did not take your last course from Pinnacle\, please provide in advance a copy.
URL:https://www.pinnaclecorp.net/training/refresher-building-inspector-training-bir-9/
LOCATION:Pinnacle Building/Zoom\, 10 Independent Avenue\, Nitro\, WV\, 25213\, United States
CATEGORIES:Refresher Building Inspector Training
END:VEVENT
BEGIN:VEVENT
DTSTART;TZID=America/New_York:20261002T080000
DTEND;TZID=America/New_York:20261002T120000
DTSTAMP:20260420T214728
CREATED:20251104T202253Z
LAST-MODIFIED:20251104T202253Z
UID:7761-1790928000-1790942400@www.pinnaclecorp.net
SUMMARY:Refresher Building Inspector Training (BIR)
DESCRIPTION:The Asbestos Inspector refresher training re-certifies individuals to survey\, identify and assess the condition of asbestos and asbestos-containing material and record and report the results. EPA certified asbestos classes have a one-year certification with a one-year grace period. If you fail to take the refresher class by the expiration date you cannot perform the AHERA job duties until you take a refresher class. If you go longer than one year past your expiration date without taking a refresher class\, you are required to retake the initial certification class. If you did not take your last course from Pinnacle\, please provide in advance a copy.
URL:https://www.pinnaclecorp.net/training/refresher-building-inspector-training-bir-10/
LOCATION:Pinnacle Building/Zoom\, 10 Independent Avenue\, Nitro\, WV\, 25213\, United States
CATEGORIES:Refresher Building Inspector Training
END:VEVENT
BEGIN:VEVENT
DTSTART;TZID=America/New_York:20261106T080000
DTEND;TZID=America/New_York:20261106T120000
DTSTAMP:20260420T214728
CREATED:20251104T202309Z
LAST-MODIFIED:20251104T202309Z
UID:7769-1793952000-1793966400@www.pinnaclecorp.net
SUMMARY:Refresher Building Inspector Training (BIR)
DESCRIPTION:The Asbestos Inspector refresher training re-certifies individuals to survey\, identify and assess the condition of asbestos and asbestos-containing material and record and report the results. EPA certified asbestos classes have a one-year certification with a one-year grace period. If you fail to take the refresher class by the expiration date you cannot perform the AHERA job duties until you take a refresher class. If you go longer than one year past your expiration date without taking a refresher class\, you are required to retake the initial certification class. If you did not take your last course from Pinnacle\, please provide in advance a copy.
URL:https://www.pinnaclecorp.net/training/refresher-building-inspector-training-bir-11/
LOCATION:Pinnacle Building/Zoom\, 10 Independent Avenue\, Nitro\, WV\, 25213\, United States
CATEGORIES:Refresher Building Inspector Training
END:VEVENT
BEGIN:VEVENT
DTSTART;TZID=America/New_York:20261204T080000
DTEND;TZID=America/New_York:20261204T120000
DTSTAMP:20260420T214728
CREATED:20251104T202324Z
LAST-MODIFIED:20251104T202324Z
UID:7773-1796371200-1796385600@www.pinnaclecorp.net
SUMMARY:Refresher Building Inspector Training (BIR)
DESCRIPTION:The Asbestos Inspector refresher training re-certifies individuals to survey\, identify and assess the condition of asbestos and asbestos-containing material and record and report the results. EPA certified asbestos classes have a one-year certification with a one-year grace period. If you fail to take the refresher class by the expiration date you cannot perform the AHERA job duties until you take a refresher class. If you go longer than one year past your expiration date without taking a refresher class\, you are required to retake the initial certification class. If you did not take your last course from Pinnacle\, please provide in advance a copy.
URL:https://www.pinnaclecorp.net/training/refresher-building-inspector-training-bir-12/
LOCATION:Pinnacle Building/Zoom\, 10 Independent Avenue\, Nitro\, WV\, 25213\, United States
CATEGORIES:Refresher Building Inspector Training
END:VEVENT
END:VCALENDAR