BEGIN:VCALENDAR
VERSION:2.0
PRODID:-//Pinnacle Consultants - ECPv6.15.20//NONSGML v1.0//EN
CALSCALE:GREGORIAN
METHOD:PUBLISH
X-ORIGINAL-URL:https://www.pinnaclecorp.net
X-WR-CALDESC:Events for Pinnacle Consultants
REFRESH-INTERVAL;VALUE=DURATION:PT1H
X-Robots-Tag:noindex
X-PUBLISHED-TTL:PT1H
BEGIN:VTIMEZONE
TZID:America/New_York
BEGIN:DAYLIGHT
TZOFFSETFROM:-0500
TZOFFSETTO:-0400
TZNAME:EDT
DTSTART:20250309T070000
END:DAYLIGHT
BEGIN:STANDARD
TZOFFSETFROM:-0400
TZOFFSETTO:-0500
TZNAME:EST
DTSTART:20251102T060000
END:STANDARD
BEGIN:DAYLIGHT
TZOFFSETFROM:-0500
TZOFFSETTO:-0400
TZNAME:EDT
DTSTART:20260308T070000
END:DAYLIGHT
BEGIN:STANDARD
TZOFFSETFROM:-0400
TZOFFSETTO:-0500
TZNAME:EST
DTSTART:20261101T060000
END:STANDARD
BEGIN:DAYLIGHT
TZOFFSETFROM:-0500
TZOFFSETTO:-0400
TZNAME:EDT
DTSTART:20270314T070000
END:DAYLIGHT
BEGIN:STANDARD
TZOFFSETFROM:-0400
TZOFFSETTO:-0500
TZNAME:EST
DTSTART:20271107T060000
END:STANDARD
END:VTIMEZONE
BEGIN:VEVENT
DTSTART;TZID=America/New_York:20260515T080000
DTEND;TZID=America/New_York:20260515T160000
DTSTAMP:20260420T021837
CREATED:20251104T202138Z
LAST-MODIFIED:20251104T202138Z
UID:7735-1778832000-1778860800@www.pinnaclecorp.net
SUMMARY:Refresher Contractor/Supervisor Training (CSR)
DESCRIPTION:The Asbestos Contractor Supervisor Refresher training re-certifies individuals to supervise and direct asbestos workers performing abatement activities. An Asbestos Supervisor must have completed this training and have a valid Supervisor certificate with them at all times while working on qualifying projects. EPA certified asbestos classes have a one-year certification with a one-year grace period. If you fail to take the refresher class by the expiration date you cannot perform the AHERA job duties until you take a refresher class. If you go longer than one year past your expiration date without taking a refresher class\, you are required to retake the initial certification class. If you did not take your last course from Pinnacle\, please provide in advance a copy.
URL:https://www.pinnaclecorp.net/training/refresher-contractor-supervisor-training-csr-5/
LOCATION:Pinnacle Building/Zoom\, 10 Independent Avenue\, Nitro\, WV\, 25213\, United States
CATEGORIES:Refresher Contractor/Supervisor Training
END:VEVENT
BEGIN:VEVENT
DTSTART;TZID=America/New_York:20260626T080000
DTEND;TZID=America/New_York:20260626T160000
DTSTAMP:20260420T021837
CREATED:20251104T202155Z
LAST-MODIFIED:20251104T202155Z
UID:7743-1782460800-1782489600@www.pinnaclecorp.net
SUMMARY:Refresher Contractor/Supervisor Training (CSR)
DESCRIPTION:The Asbestos Contractor Supervisor Refresher training re-certifies individuals to supervise and direct asbestos workers performing abatement activities. An Asbestos Supervisor must have completed this training and have a valid Supervisor certificate with them at all times while working on qualifying projects. EPA certified asbestos classes have a one-year certification with a one-year grace period. If you fail to take the refresher class by the expiration date you cannot perform the AHERA job duties until you take a refresher class. If you go longer than one year past your expiration date without taking a refresher class\, you are required to retake the initial certification class. If you did not take your last course from Pinnacle\, please provide in advance a copy.
URL:https://www.pinnaclecorp.net/training/refresher-contractor-supervisor-training-csr-6/
LOCATION:Pinnacle Building/Zoom\, 10 Independent Avenue\, Nitro\, WV\, 25213\, United States
CATEGORIES:Refresher Contractor/Supervisor Training
END:VEVENT
BEGIN:VEVENT
DTSTART;TZID=America/New_York:20260724T080000
DTEND;TZID=America/New_York:20260724T160000
DTSTAMP:20260420T021837
CREATED:20251104T202208Z
LAST-MODIFIED:20251105T133017Z
UID:7747-1784880000-1784908800@www.pinnaclecorp.net
SUMMARY:Refresher Contractor/Supervisor Training (CSR)
DESCRIPTION:The Asbestos Contractor Supervisor Refresher training re-certifies individuals to supervise and direct asbestos workers performing abatement activities. An Asbestos Supervisor must have completed this training and have a valid Supervisor certificate with them at all times while working on qualifying projects. EPA certified asbestos classes have a one-year certification with a one-year grace period. If you fail to take the refresher class by the expiration date you cannot perform the AHERA job duties until you take a refresher class. If you go longer than one year past your expiration date without taking a refresher class\, you are required to retake the initial certification class. If you did not take your last course from Pinnacle\, please provide in advance a copy.
URL:https://www.pinnaclecorp.net/training/refresher-contractor-supervisor-training-csr-7/
LOCATION:Pinnacle Building/Zoom\, 10 Independent Avenue\, Nitro\, WV\, 25213\, United States
CATEGORIES:Refresher Contractor/Supervisor Training
END:VEVENT
BEGIN:VEVENT
DTSTART;TZID=America/New_York:20260821T080000
DTEND;TZID=America/New_York:20260821T160000
DTSTAMP:20260420T021837
CREATED:20251104T202224Z
LAST-MODIFIED:20251104T202224Z
UID:7754-1787299200-1787328000@www.pinnaclecorp.net
SUMMARY:Refresher Contractor/Supervisor Training (CSR)
DESCRIPTION:The Asbestos Contractor Supervisor Refresher training re-certifies individuals to supervise and direct asbestos workers performing abatement activities. An Asbestos Supervisor must have completed this training and have a valid Supervisor certificate with them at all times while working on qualifying projects. EPA certified asbestos classes have a one-year certification with a one-year grace period. If you fail to take the refresher class by the expiration date you cannot perform the AHERA job duties until you take a refresher class. If you go longer than one year past your expiration date without taking a refresher class\, you are required to retake the initial certification class. If you did not take your last course from Pinnacle\, please provide in advance a copy.
URL:https://www.pinnaclecorp.net/training/refresher-contractor-supervisor-training-csr-8/
LOCATION:Pinnacle Building/Zoom\, 10 Independent Avenue\, Nitro\, WV\, 25213\, United States
CATEGORIES:Refresher Contractor/Supervisor Training
END:VEVENT
BEGIN:VEVENT
DTSTART;TZID=America/New_York:20260925T080000
DTEND;TZID=America/New_York:20260925T160000
DTSTAMP:20260420T021837
CREATED:20251104T202253Z
LAST-MODIFIED:20251104T202253Z
UID:7760-1790323200-1790352000@www.pinnaclecorp.net
SUMMARY:Refresher Contractor/Supervisor Training (CSR)
DESCRIPTION:The Asbestos Contractor Supervisor Refresher training re-certifies individuals to supervise and direct asbestos workers performing abatement activities. An Asbestos Supervisor must have completed this training and have a valid Supervisor certificate with them at all times while working on qualifying projects. EPA certified asbestos classes have a one-year certification with a one-year grace period. If you fail to take the refresher class by the expiration date you cannot perform the AHERA job duties until you take a refresher class. If you go longer than one year past your expiration date without taking a refresher class\, you are required to retake the initial certification class. If you did not take your last course from Pinnacle\, please provide in advance a copy.
URL:https://www.pinnaclecorp.net/training/refresher-contractor-supervisor-training-csr-9/
LOCATION:Pinnacle Building/Zoom\, 10 Independent Avenue\, Nitro\, WV\, 25213\, United States
CATEGORIES:Refresher Contractor/Supervisor Training
END:VEVENT
BEGIN:VEVENT
DTSTART;TZID=America/New_York:20261016T080000
DTEND;TZID=America/New_York:20261016T160000
DTSTAMP:20260420T021837
CREATED:20251104T202308Z
LAST-MODIFIED:20251104T202308Z
UID:7765-1792137600-1792166400@www.pinnaclecorp.net
SUMMARY:Refresher Contractor/Supervisor Training (CSR)
DESCRIPTION:The Asbestos Contractor Supervisor Refresher training re-certifies individuals to supervise and direct asbestos workers performing abatement activities. An Asbestos Supervisor must have completed this training and have a valid Supervisor certificate with them at all times while working on qualifying projects. EPA certified asbestos classes have a one-year certification with a one-year grace period. If you fail to take the refresher class by the expiration date you cannot perform the AHERA job duties until you take a refresher class. If you go longer than one year past your expiration date without taking a refresher class\, you are required to retake the initial certification class. If you did not take your last course from Pinnacle\, please provide in advance a copy.
URL:https://www.pinnaclecorp.net/training/refresher-contractor-supervisor-training-csr-10/
LOCATION:Pinnacle Building/Zoom\, 10 Independent Avenue\, Nitro\, WV\, 25213\, United States
CATEGORIES:Refresher Contractor/Supervisor Training
END:VEVENT
BEGIN:VEVENT
DTSTART;TZID=America/New_York:20261113T080000
DTEND;TZID=America/New_York:20261113T160000
DTSTAMP:20260420T021837
CREATED:20251104T202323Z
LAST-MODIFIED:20251105T143544Z
UID:7771-1794556800-1794585600@www.pinnaclecorp.net
SUMMARY:Refresher Contractor/Supervisor Training (CSR)
DESCRIPTION:The Asbestos Contractor Supervisor Refresher training re-certifies individuals to supervise and direct asbestos workers performing abatement activities. An Asbestos Supervisor must have completed this training and have a valid Supervisor certificate with them at all times while working on qualifying projects. EPA certified asbestos classes have a one-year certification with a one-year grace period. If you fail to take the refresher class by the expiration date you cannot perform the AHERA job duties until you take a refresher class. If you go longer than one year past your expiration date without taking a refresher class\, you are required to retake the initial certification class. If you did not take your last course from Pinnacle\, please provide in advance a copy.
URL:https://www.pinnaclecorp.net/training/refresher-contractor-supervisor-training-csr-11/
LOCATION:Pinnacle Building/Zoom\, 10 Independent Avenue\, Nitro\, WV\, 25213\, United States
CATEGORIES:Refresher Contractor/Supervisor Training
END:VEVENT
BEGIN:VEVENT
DTSTART;TZID=America/New_York:20261218T080000
DTEND;TZID=America/New_York:20261218T160000
DTSTAMP:20260420T021837
CREATED:20251104T202339Z
LAST-MODIFIED:20251104T202339Z
UID:7777-1797580800-1797609600@www.pinnaclecorp.net
SUMMARY:Refresher Contractor/Supervisor Training (CSR)
DESCRIPTION:The Asbestos Contractor Supervisor Refresher training re-certifies individuals to supervise and direct asbestos workers performing abatement activities. An Asbestos Supervisor must have completed this training and have a valid Supervisor certificate with them at all times while working on qualifying projects. EPA certified asbestos classes have a one-year certification with a one-year grace period. If you fail to take the refresher class by the expiration date you cannot perform the AHERA job duties until you take a refresher class. If you go longer than one year past your expiration date without taking a refresher class\, you are required to retake the initial certification class. If you did not take your last course from Pinnacle\, please provide in advance a copy.
URL:https://www.pinnaclecorp.net/training/refresher-contractor-supervisor-training-csr-12/
LOCATION:Pinnacle Building/Zoom\, 10 Independent Avenue\, Nitro\, WV\, 25213\, United States
CATEGORIES:Refresher Contractor/Supervisor Training
END:VEVENT
END:VCALENDAR