BEGIN:VCALENDAR
VERSION:2.0
PRODID:-//Pinnacle Consultants - ECPv6.15.20//NONSGML v1.0//EN
CALSCALE:GREGORIAN
METHOD:PUBLISH
X-ORIGINAL-URL:https://www.pinnaclecorp.net
X-WR-CALDESC:Events for Pinnacle Consultants
REFRESH-INTERVAL;VALUE=DURATION:PT1H
X-Robots-Tag:noindex
X-PUBLISHED-TTL:PT1H
BEGIN:VTIMEZONE
TZID:America/New_York
BEGIN:DAYLIGHT
TZOFFSETFROM:-0500
TZOFFSETTO:-0400
TZNAME:EDT
DTSTART:20250309T070000
END:DAYLIGHT
BEGIN:STANDARD
TZOFFSETFROM:-0400
TZOFFSETTO:-0500
TZNAME:EST
DTSTART:20251102T060000
END:STANDARD
BEGIN:DAYLIGHT
TZOFFSETFROM:-0500
TZOFFSETTO:-0400
TZNAME:EDT
DTSTART:20260308T070000
END:DAYLIGHT
BEGIN:STANDARD
TZOFFSETFROM:-0400
TZOFFSETTO:-0500
TZNAME:EST
DTSTART:20261101T060000
END:STANDARD
BEGIN:DAYLIGHT
TZOFFSETFROM:-0500
TZOFFSETTO:-0400
TZNAME:EDT
DTSTART:20270314T070000
END:DAYLIGHT
BEGIN:STANDARD
TZOFFSETFROM:-0400
TZOFFSETTO:-0500
TZNAME:EST
DTSTART:20271107T060000
END:STANDARD
END:VTIMEZONE
BEGIN:VEVENT
DTSTART;TZID=America/New_York:20260501T120000
DTEND;TZID=America/New_York:20260501T160000
DTSTAMP:20260420T004837
CREATED:20251104T202124Z
LAST-MODIFIED:20251105T130009Z
UID:7733-1777636800-1777651200@www.pinnaclecorp.net
SUMMARY:Refresher Management Planner Training (MPR)
DESCRIPTION:This Management Planner refresher course provides a review of subjects covered in the Management Planner initial course. The Management Planner is the person who develops the written program for managing asbestos containing materials identified during the asbestos building inspection. EPA certified asbestos classes have a one-year certification with a one-year grace period. If you fail to take the refresher class by the expiration date you cannot perform the AHERA job duties until you take a refresher class. If you go longer than one year past your expiration date without taking a refresher class\, you are required to retake the initial certification class. If you did not take your last course from Pinnacle\, please provide in advance a copy.
URL:https://www.pinnaclecorp.net/training/refresher-management-planner-training-mpr-5/
LOCATION:Pinnacle Building/Zoom\, 10 Independent Avenue\, Nitro\, WV\, 25213\, United States
CATEGORIES:Refresher Management Planner Training
END:VEVENT
BEGIN:VEVENT
DTSTART;TZID=America/New_York:20260612T120000
DTEND;TZID=America/New_York:20260612T160000
DTSTAMP:20260420T004837
CREATED:20251104T202153Z
LAST-MODIFIED:20251104T202153Z
UID:7740-1781265600-1781280000@www.pinnaclecorp.net
SUMMARY:Refresher Management Planner Training (MPR)
DESCRIPTION:This Management Planner refresher course provides a review of subjects covered in the Management Planner initial course. The Management Planner is the person who develops the written program for managing asbestos containing materials identified during the asbestos building inspection. EPA certified asbestos classes have a one-year certification with a one-year grace period. If you fail to take the refresher class by the expiration date you cannot perform the AHERA job duties until you take a refresher class. If you go longer than one year past your expiration date without taking a refresher class\, you are required to retake the initial certification class. If you did not take your last course from Pinnacle\, please provide in advance a copy.
URL:https://www.pinnaclecorp.net/training/refresher-management-planner-training-mpr-6/
LOCATION:Pinnacle Building/Zoom\, 10 Independent Avenue\, Nitro\, WV\, 25213\, United States
CATEGORIES:Refresher Management Planner Training
END:VEVENT
BEGIN:VEVENT
DTSTART;TZID=America/New_York:20260710T120000
DTEND;TZID=America/New_York:20260710T160000
DTSTAMP:20260420T004837
CREATED:20251104T202208Z
LAST-MODIFIED:20251104T202208Z
UID:7745-1783684800-1783699200@www.pinnaclecorp.net
SUMMARY:Refresher Management Planner Training (MPR)
DESCRIPTION:This Management Planner refresher course provides a review of subjects covered in the Management Planner initial course. The Management Planner is the person who develops the written program for managing asbestos containing materials identified during the asbestos building inspection. EPA certified asbestos classes have a one-year certification with a one-year grace period. If you fail to take the refresher class by the expiration date you cannot perform the AHERA job duties until you take a refresher class. If you go longer than one year past your expiration date without taking a refresher class\, you are required to retake the initial certification class. If you did not take your last course from Pinnacle\, please provide in advance a copy.
URL:https://www.pinnaclecorp.net/training/refresher-management-planner-training-mpr-7/
LOCATION:Pinnacle Building/Zoom\, 10 Independent Avenue\, Nitro\, WV\, 25213\, United States
CATEGORIES:Refresher Management Planner Training
END:VEVENT
BEGIN:VEVENT
DTSTART;TZID=America/New_York:20260807T120000
DTEND;TZID=America/New_York:20260807T160000
DTSTAMP:20260420T004837
CREATED:20251104T202223Z
LAST-MODIFIED:20251104T202223Z
UID:7751-1786104000-1786118400@www.pinnaclecorp.net
SUMMARY:Refresher Management Planner Training (MPR)
DESCRIPTION:This Management Planner refresher course provides a review of subjects covered in the Management Planner initial course. The Management Planner is the person who develops the written program for managing asbestos containing materials identified during the asbestos building inspection. EPA certified asbestos classes have a one-year certification with a one-year grace period. If you fail to take the refresher class by the expiration date you cannot perform the AHERA job duties until you take a refresher class. If you go longer than one year past your expiration date without taking a refresher class\, you are required to retake the initial certification class. If you did not take your last course from Pinnacle\, please provide in advance a copy.
URL:https://www.pinnaclecorp.net/training/refresher-management-planner-training-mpr-8/
LOCATION:Pinnacle Building/Zoom\, 10 Independent Avenue\, Nitro\, WV\, 25213\, United States
CATEGORIES:Refresher Management Planner Training
END:VEVENT
BEGIN:VEVENT
DTSTART;TZID=America/New_York:20260911T120000
DTEND;TZID=America/New_York:20260911T160000
DTSTAMP:20260420T004837
CREATED:20251104T202239Z
LAST-MODIFIED:20251105T144231Z
UID:7758-1789128000-1789142400@www.pinnaclecorp.net
SUMMARY:Refresher Management Planner Training (MPR)
DESCRIPTION:This Management Planner refresher course provides a review of subjects covered in the Management Planner initial course. The Management Planner is the person who develops the written program for managing asbestos containing materials identified during the asbestos building inspection. EPA certified asbestos classes have a one-year certification with a one-year grace period. If you fail to take the refresher class by the expiration date you cannot perform the AHERA job duties until you take a refresher class. If you go longer than one year past your expiration date without taking a refresher class\, you are required to retake the initial certification class. If you did not take your last course from Pinnacle\, please provide in advance a copy.
URL:https://www.pinnaclecorp.net/training/refresher-management-planner-training-mpr-9/
LOCATION:Pinnacle Building/Zoom\, 10 Independent Avenue\, Nitro\, WV\, 25213\, United States
CATEGORIES:Refresher Management Planner Training
END:VEVENT
BEGIN:VEVENT
DTSTART;TZID=America/New_York:20261002T120000
DTEND;TZID=America/New_York:20261002T160000
DTSTAMP:20260420T004837
CREATED:20251104T202254Z
LAST-MODIFIED:20251104T202254Z
UID:7762-1790942400-1790956800@www.pinnaclecorp.net
SUMMARY:Refresher Management Planner Training (MPR)
DESCRIPTION:This Management Planner refresher course provides a review of subjects covered in the Management Planner initial course. The Management Planner is the person who develops the written program for managing asbestos containing materials identified during the asbestos building inspection. EPA certified asbestos classes have a one-year certification with a one-year grace period. If you fail to take the refresher class by the expiration date you cannot perform the AHERA job duties until you take a refresher class. If you go longer than one year past your expiration date without taking a refresher class\, you are required to retake the initial certification class. If you did not take your last course from Pinnacle\, please provide in advance a copy.
URL:https://www.pinnaclecorp.net/training/refresher-management-planner-training-mpr-10/
LOCATION:Pinnacle Building/Zoom\, 10 Independent Avenue\, Nitro\, WV\, 25213\, United States
CATEGORIES:Refresher Management Planner Training
END:VEVENT
BEGIN:VEVENT
DTSTART;TZID=America/New_York:20261106T120000
DTEND;TZID=America/New_York:20261106T160000
DTSTAMP:20260420T004837
CREATED:20251104T202323Z
LAST-MODIFIED:20251104T202323Z
UID:7770-1793966400-1793980800@www.pinnaclecorp.net
SUMMARY:Refresher Management Planner Training (MPR)
DESCRIPTION:This Management Planner refresher course provides a review of subjects covered in the Management Planner initial course. The Management Planner is the person who develops the written program for managing asbestos containing materials identified during the asbestos building inspection. EPA certified asbestos classes have a one-year certification with a one-year grace period. If you fail to take the refresher class by the expiration date you cannot perform the AHERA job duties until you take a refresher class. If you go longer than one year past your expiration date without taking a refresher class\, you are required to retake the initial certification class. If you did not take your last course from Pinnacle\, please provide in advance a copy.
URL:https://www.pinnaclecorp.net/training/refresher-management-planner-training-mpr-11/
LOCATION:Pinnacle Building/Zoom\, 10 Independent Avenue\, Nitro\, WV\, 25213\, United States
CATEGORIES:Refresher Management Planner Training
END:VEVENT
BEGIN:VEVENT
DTSTART;TZID=America/New_York:20261204T120000
DTEND;TZID=America/New_York:20261204T160000
DTSTAMP:20260420T004837
CREATED:20251104T202325Z
LAST-MODIFIED:20251104T202325Z
UID:7774-1796385600-1796400000@www.pinnaclecorp.net
SUMMARY:Refresher Management Planner Training (MPR)
DESCRIPTION:This Management Planner refresher course provides a review of subjects covered in the Management Planner initial course. The Management Planner is the person who develops the written program for managing asbestos containing materials identified during the asbestos building inspection. EPA certified asbestos classes have a one-year certification with a one-year grace period. If you fail to take the refresher class by the expiration date you cannot perform the AHERA job duties until you take a refresher class. If you go longer than one year past your expiration date without taking a refresher class\, you are required to retake the initial certification class. If you did not take your last course from Pinnacle\, please provide in advance a copy.
URL:https://www.pinnaclecorp.net/training/refresher-management-planner-training-mpr-12/
LOCATION:Pinnacle Building/Zoom\, 10 Independent Avenue\, Nitro\, WV\, 25213\, United States
CATEGORIES:Refresher Management Planner Training
END:VEVENT
END:VCALENDAR